BEGIN:VCALENDAR
VERSION:2.0
PRODID:-//Eventin//Event Calendar//EN
CALSCALE:GREGORIAN
METHOD:PUBLISH
BEGIN:VEVENT
UID:63fbe749d72f7a6030b92393c62ba2cb@www.leclubbbq.nl
SUMMARY:El Batey Orange edition
DESCRIPTION:🔥🧡 EL BATEY – ORANGE EDITION 🧡🔥Prepárate para un
 a noche llena de pura bachata\, sabor caribeño y mucho ritmo.Llega El Bate
 y – Orange Edition\, un evento donde la música\, el baile y la buena vib
 ra se unen para crear una experiencia inolvidable. 💃🏽🕺🏽Disfruta
  de la mejor selección musical con DJ El Che & DJ El Flaco\, poniendo a so
 nar la bachata más sabrosa para que no pares de bailar toda la noche.✨ A
 demás\, tendremos un Workshop de Bachata Tradicional con Michelle & Bertho
 n\, perfecto para aprender\, mejorar tu estilo y comenzar la noche con el p
 ie derecho.📅 Sábado 25 de Abril📍 Le Club BBQ – Zoetermeer🎟️ O
 nline: €10🎟️ Late: €11🎟️ Door: €15Ven a vivir el ambiente a
 uténtico del Batey\, donde la bachata se siente\, se baila y se disfruta a
 l máximo.🧡 Dress Code: Orange Edition¡Trae tu mejor energía y ven a b
 ailar hasta el amanecer!\nTickets: https://shop.weeztix.com/bbba6f40-7a05-4
 1e3-9dd5.../tickets\nEvent info: https://www.facebook.com/events/1467742104
 755476/\n 
LOCATION:le club
DTSTAMP:20260421T124048Z
DTSTART:20260425T200000Z
DTEND:20260426T020000Z
END:VEVENT
END:VCALENDAR
