BEGIN:VCALENDAR
VERSION:2.0
PRODID:-//Eventin//Event Calendar//EN
CALSCALE:GREGORIAN
METHOD:PUBLISH
BEGIN:VEVENT
UID:4b7b72a7b1f2925764047ba40ba51cf7@www.leclubbbq.nl
SUMMARY:Teckeldag
DESCRIPTION:🐶\n🎉 Gratis teckelkoekjes bij lunch of diner🌿 Lekker g
 enieten op ons terras\n🥡 Speciaal: Lunchbox €12\,50 p.p.(alleen vooraf
  te bestellen)\nPerfect voor een snelle & lekkere lunch:* 2x broodje (ham /
  kaas / roomkaas met sla)* Blikje frisdrank\, appelsap of sinaasappelsap* A
 ppel\, banaan of sinaasappel* Eierkoek of 2 stroopwafels\n🕦 Afhalen tuss
 en 11:30 – 12:30🚚 Bezorging mogelijk voor standhouders\n👉 Bestellen
 ?https://bestellen.leclubbbq.nl/menu\n📍 Dorpsstraat 114B\, Zoetermeer\n
 ✨ waar Zoetermeer samenkomt
LOCATION:le club
DTSTAMP:20260421T112013Z
DTSTART:20260502T080000Z
DTEND:20260502T150000Z
END:VEVENT
END:VCALENDAR
