BEGIN:VCALENDAR
VERSION:2.0
PRODID:-//Eventin//Event Calendar//EN
CALSCALE:GREGORIAN
METHOD:PUBLISH
BEGIN:VEVENT
UID:4af48aa8c597d7fa1022e148fb84dbe8@www.leclubbbq.nl
SUMMARY:Candlelight Night met live Griss Acosta
DESCRIPTION:Hij is er weer\, de perfecte date avond/nacht.\nCandlelight Nig
 ht is de perfecte date-night. Ben je getrouwd\, verloofd\, verliefd\, of wi
 l je hem/haar gewoon duidelijk maken dat je hem/haar heel leuk vind? Dan is
  dit de perfecte gelegenheid.\nDoor de aankleding van de locatie waan je je
  al in een Spaanse calle.Vakantie voorbij? Bij Le Club BBQ ben je altijd op
  vakantie. Zelfs de balkonnetjes ontbreken niet.\nHet wordt een Diner and D
 ance waarbij ruimte is om naast je tafel met je vlam te dansen op de heerli
 jkste ballads. Griss Acosta uit Santa Domingo zal ervoor zorgen dat je deze
  romantische avond nooit vergeet.\nGriss is een veelzijdige sing- en songwr
 iter met genres als romantisch\, bachata\, merengue en urban pop. Griss bra
 cht o.a. de zelfgeschreven 'Noche de Verano' en 'Punta Cana' uit.\nOp deze 
 avond zal hij vooral de ballads en bachata ten gehore brengen.\n \nRomanti
 schBalladsSalsaBachataMerengue\nGratis parkerenCocktailbarSnacks verkrijgba
 arGratis toilettenAirco's aanwezigDresscode: DatenightSpeciaal voor deze av
 ond hebben we een romantisch 3 gangen shared dining menu voor twee personen
  samengesteld. Deze zijn alleen vooraf te reserveren\nVerzeker jezelf nu va
 n een plek! Klik op de link om je ticket te kopen en reserveer je tafel via
  de website:\nhttps://www.leclubbbq.nl/agenda\nLa Noche a la Luz de las Vel
 as es la cita nocturna perfecta. ¿Estás casado\, comprometido\, enamorado
  o simplemente quieres dejarle claro que realmente te gusta? Entonces esta 
 es la oportunidad perfecta.\nLa decoración del local te hace sentir como s
 i estuvieras en una calle española.¿Se acabaron las vacaciones? En Le Clu
 b BBQ siempre estás de vacaciones. Ni siquiera faltan los balcones.\nSerá
  una Cena y Baile donde habrá espacio para bailar con la persona que te gu
 sta junto a tu mesa las más maravillosas baladas. Griss Acosta de Santo Do
 mingo se encargará de que nunca olvides esta velada romántica.\nGriss es 
 un cantante y compositor versátil con géneros como el romántico\, la bac
 hata\, el merengue y el pop urbano.Griss lanzó\, entre otras\, 'Noche de V
 erano' y 'Punta Cana'\, escritas por él mismo.\nEsta noche interpretará p
 rincipalmente baladas.\nRománticoBaladasSalsaBachataMerengue\nEstacionamie
 nto gratuitoBar de cóctelesAperitivos disponiblesBaños gratuitosAire acon
 dicionado disponibleCódigo de vestimenta: cita nocturnaHemos preparado un 
 romántico menú de cena compartida de 3 platos para dos personas especialm
 ente para esta noche. Estos sólo se pueden reservar con antelación.\n¡As
 egúrate un lugar ahora! Haz clic en el enlace para comprar tu entrada y re
 servar tu mesa a través de la web:\nhttps://www.leclubbbq.nl/agenda/
LOCATION:Le Club
DTSTAMP:20260421T130259Z
DTSTART:20260925T160000Z
DTEND:20260925T200000Z
END:VEVENT
END:VCALENDAR
